BEGIN:VCALENDAR
VERSION:2.0
PRODID:-//NeuroMuscular Reprogramming - ECPv6.15.18//NONSGML v1.0//EN
CALSCALE:GREGORIAN
METHOD:PUBLISH
X-ORIGINAL-URL:https://neuromuscular-reprogramming.com
X-WR-CALDESC:Events for NeuroMuscular Reprogramming
REFRESH-INTERVAL;VALUE=DURATION:PT1H
X-Robots-Tag:noindex
X-PUBLISHED-TTL:PT1H
BEGIN:VTIMEZONE
TZID:America/New_York
BEGIN:DAYLIGHT
TZOFFSETFROM:-0500
TZOFFSETTO:-0400
TZNAME:EDT
DTSTART:20220313T070000
END:DAYLIGHT
BEGIN:STANDARD
TZOFFSETFROM:-0400
TZOFFSETTO:-0500
TZNAME:EST
DTSTART:20221106T060000
END:STANDARD
BEGIN:DAYLIGHT
TZOFFSETFROM:-0500
TZOFFSETTO:-0400
TZNAME:EDT
DTSTART:20230312T070000
END:DAYLIGHT
BEGIN:STANDARD
TZOFFSETFROM:-0400
TZOFFSETTO:-0500
TZNAME:EST
DTSTART:20231105T060000
END:STANDARD
BEGIN:DAYLIGHT
TZOFFSETFROM:-0500
TZOFFSETTO:-0400
TZNAME:EDT
DTSTART:20240310T070000
END:DAYLIGHT
BEGIN:STANDARD
TZOFFSETFROM:-0400
TZOFFSETTO:-0500
TZNAME:EST
DTSTART:20241103T060000
END:STANDARD
BEGIN:DAYLIGHT
TZOFFSETFROM:-0500
TZOFFSETTO:-0400
TZNAME:EDT
DTSTART:20250309T070000
END:DAYLIGHT
BEGIN:STANDARD
TZOFFSETFROM:-0400
TZOFFSETTO:-0500
TZNAME:EST
DTSTART:20251102T060000
END:STANDARD
BEGIN:DAYLIGHT
TZOFFSETFROM:-0500
TZOFFSETTO:-0400
TZNAME:EDT
DTSTART:20260308T070000
END:DAYLIGHT
BEGIN:STANDARD
TZOFFSETFROM:-0400
TZOFFSETTO:-0500
TZNAME:EST
DTSTART:20261101T060000
END:STANDARD
END:VTIMEZONE
BEGIN:VTIMEZONE
TZID:UTC
BEGIN:STANDARD
TZOFFSETFROM:+0000
TZOFFSETTO:+0000
TZNAME:UTC
DTSTART:20210101T000000
END:STANDARD
END:VTIMEZONE
BEGIN:VEVENT
DTSTART;TZID=America/New_York:20250404T190000
DTEND;TZID=America/New_York:20250406T173000
DTSTAMP:20260425T045522
CREATED:20250116T183545Z
LAST-MODIFIED:20250205T000311Z
UID:13211-1743793200-1743960600@neuromuscular-reprogramming.com
SUMMARY:Mod 1: Intro to NMR: Protocols for Hips and Low Back - In-Person Course - Asheville NC - Apr 4-6\, 2025
DESCRIPTION:View Full Course Description (pdf)\nNMR provides fast\, easy corrections for complex coordination dysfunctions of the hips and low back. Correcting poor sequencing among the muscles controlling movement and stabilization in these areas quickly restores proper biomechanics and range of motion\, alleviating chronic and acute pain of the Gluteals\, SIJ and Lumbar Spine. \nLearn safe protocols to address sacroiliac joint pain\, hip pain\, “Military Spine”\, excessive lordosis\, sciatica\, and more. \n\nRelieve compression effects from past falls on the sacrum and coccyx.\nReduce the effects of shock and whiplash to the spine.\nRecondition active support of the erector spinae muscles.\nLearn corrective exercises to reinforce efficient use of the low back and hips.\n\nRegister 4 Weeks in advance and Save 10%! \n			\n				\n\n	\n	\n			\n\n\n	\n		Mod 1: Intro to NMR: Protocols for Hips and Low Back – In-Person Course – Asheville NC – Apr 4-6\, 2025$0.00 – $600.00Price range: $0.00 through $600.00 \n\n\n	\n			\n			\n									\n						Class\n						\n							Choose an optionRegular In-PersonIn-Person RepeatingCertified NMR Therapists Repeating						\n					\n									\n						Modules\n						\n							Choose an optionModule 1Clear						\n					\n							\n		\n		\n		\n		\n			\n	\n	\n		Mod 1: Intro to NMR: Protocols for Hips and Low Back - In-Person Course - Asheville NC - Apr 4-6\, 2025 quantity\n	\n	\n\n	Add to cart\n\n	\n	\n	\n	\n\n		\n	\n	\n\n\n\n	\n	\n		SKU: N/A\n\n	\n	Categories: Classes\, Module 1 - Protocols for Hips and Low Back\, North Carolina\n	\n	\n\n	\n\n	\n	\n		\n							\n					\n						Description					\n				\n							\n					\n						Additional information					\n				\n					\n					\n				\n	Description\n\nThe drop down menus automatically change the price based on your selection. \n1. Purchasing this Mod IN-PERSON class in advance\, 28 days prior to the class start date\, discounts 10% off the regular price. \n2. Repeating this Mod IN-PERSON class costs 50% (half off regular price). \nIf this is your first time purchasing\, please be sure to register and log in before completing your purchase. If you do not yet have an account\, please REGISTER HERE \n\nCancellation Policy:\nCancellations received one month ahead of class date will receive a full refund.  Cancellations up to 2 weeks ahead will receive a 50% refund or a 100% credit toward a future class minus a $30 administrative fee.  Full credit must be redeemed within 2 years of the cancellation. After that the student will retain no value toward future classes. \n\nAccessing the Manual Muscle Testing Video Series:\nParticipants also receive automatic registration for free access to the Manual Muscle Testing Video series. \n\n\n\nPlease login to your account.\n\n\n\n\nOnce you have logged in\, please navigate to “My Account”\nThen select “NMR Video Products” from the links on the left.\n\n\n\n\n\nIn the unlikely event the video page does not appear\, or the link to the video page is missing in your Order details\, or says the page is “Access Denied” when you have already logged in\, and you previously purchased it\, and still ended up on the Access Denied page\, OH NO!!! Sincerest apologies\, please contact us immediately to fix it for you: wsmoulton @ gmail com\, include your user name and email. \n\n			\n					\n				\n	Additional information\n\n\n			\n			Modules\n			Module 1\, All 4 Modules
URL:https://neuromuscular-reprogramming.com/event/mod-1-intro-nmr-protocols-hips-low-back-in-person-asheville-apr-4-to-6-2025/
LOCATION:WildHawk PT\, 1070 Tunnel Rd\, Bldg 2\, STE 90\, Asheville\, NC\, 28805\, United States
CATEGORIES:Asheville North Carolina
ATTACH;FMTTYPE=image/jpeg:https://neuromuscular-reprogramming.com/wp-content/uploads/2024/02/Mod1picx.jpg
ORGANIZER;CN="Tim Hackett":MAILTO:timhackett111@gmail.com
END:VEVENT
BEGIN:VEVENT
DTSTART;TZID=America/New_York:20241115T190000
DTEND;TZID=America/New_York:20241117T220000
DTSTAMP:20260425T045523
CREATED:20240503T233203Z
LAST-MODIFIED:20240716T012819Z
UID:12611-1731697200-1731880800@neuromuscular-reprogramming.com
SUMMARY:Mod 1: Intro to NMR\, Protocols for Hips and Low Back: Asheville\, NC November 15-17\, 2024
DESCRIPTION:View Full Course Description\n  \nNMR provides fast\, easy corrections for complex coordination dysfunctions of the hips and low back. Correcting poor sequencing among the muscles controlling movement and stabilization in these areas quickly restores proper biomechanics and range of motion\, alleviating chronic and acute pain of the Gluteals\, SIJ and Lumbar Spine. \nLearn safe protocols to address sacroiliac joint pain\, hip pain\, “Military Spine”\, excessive lordosis\, sciatica\, and more. \n\nRelieve compression effects from past falls on the sacrum and coccyx.\nReduce the effects of shock and whiplash to the spine.\nRecondition active support of the erector spinae muscles.\nLearn corrective exercises to reinforce efficient use of the low back and hips.\n\nRegister 4 Weeks in advance and Save 10%!\n\n			\n				\n\n	\n	\n			\n\n\n	\n		Mod 1: Intro to NMR: Protocols for Hips and Low Back – In-Person Course – Asheville – November 15-17\, 2024$0.00 – $600.00Price range: $0.00 through $600.00 \n\n\n	\n			\n			\n									\n						Class\n						\n							Choose an optionRegular In-PersonIn-Person RepeatingCertified NMR Therapists Repeating						\n					\n									\n						Modules\n						\n							Choose an optionModule 1Clear						\n					\n							\n		\n		\n		\n		\n			\n	\n	\n		Mod 1: Intro to NMR: Protocols for Hips and Low Back - In-Person Course - Asheville - November 15-17\, 2024 quantity\n	\n	\n\n	Add to cart\n\n	\n	\n	\n	\n\n		\n	\n	\n\n\n\n	\n	\n		SKU: N/A\n\n	\n	Categories: Classes\, Module 1 - Protocols for Hips and Low Back\, North Carolina\n	\n	\n\n	\n\n	\n	\n		\n							\n					\n						Description					\n				\n							\n					\n						Additional information					\n				\n					\n					\n				\n	Description\n\nThe drop down menus automatically change the price based on your selection. \n1. Purchasing this Mod IN-PERSON class in advance\, 28 days prior to the class start date\, discounts 10% off the regular price. \n2. Repeating this Mod IN-PERSON class costs 50% (half off regular price). \n3. Purchasing this Mod STREAMING class in advance\, 28 days prior to the class start date\, discounts 10% off the regular price. \n4. Repeating this Mod STREAMING class costs 50% (half off regular price).  \nIf this is your first time purchasing\, please be sure to register and log in before completing your purchase. If you do not yet have an account\, please REGISTER HERE \n\nCancellation Policy:\nCancellations received one month ahead of class date will receive a full refund.  Cancellations up to 2 weeks ahead will receive a 50% refund or a 100% credit toward a future class minus a $30 administrative fee.  Full credit must be redeemed within 2 years of the cancellation. After that the student will retain no value toward future classes. \n\nAccessing the Manual Muscle Testing Video Series:\nParticipants also receive automatic registration for free access to the Manual Muscle Testing Video series.  If you do not receive your free video link in the email\, check your spam folder for your class receipt with valuable links to promised FREE resources. (Even without the email you are still added to the membership – to access follow the directions BELOW) \n\nParticipants also receive automatic registration for free access to the NMR Manual Muscle Testing Video Series.\n\nPlease login to your account.  Go to the STORE menu tab\, and open the dropdown menu to see PREPAID VIDEO SERIES ACCESS menu selection\, and then in the additional submenu there\, please select Manual Muscle Testing.\n\n\nAlternatively (takes longer) login to your account you created when you purchased the video series.\n\nOnce you have logged in\, please navigate to “My Account” selected under the STORE menu tab.\nThen select “Orders” from the links on the left.\nThen the VIEW button for each order\, and in each order detail is the Link to the video series for video series you purchased.\nPlease click on the provided video series URL page link inside your Order detail to access the video series page on this website.\n\n\n\n\n\nIn the unlikely event the video page does not appear\, or the link to the video page is missing in your Order details\, or says the page is “Access Denied” when you have already logged in\, and you previously purchased it\, and still ended up on the Access Denied page\, OH NO!!! Sincerest apologies\, please contact us immediately to fix it for you: wsmoulton @ gmail com\, include your user name and email. \n\n			\n					\n				\n	Additional information\n\n\n			\n			Modules\n			Module 1\, All 4 Modules
URL:https://neuromuscular-reprogramming.com/event/mod-1-intro-nmr-protocols-hips-low-back-asheville-in-person-november-15-17-2024/
LOCATION:NC
CATEGORIES:Asheville North Carolina,North Carolina Classes
ATTACH;FMTTYPE=image/jpeg:https://neuromuscular-reprogramming.com/wp-content/uploads/2024/02/Mod1picx.jpg
END:VEVENT
BEGIN:VEVENT
DTSTART;TZID=America/New_York:20230901T190000
DTEND;TZID=America/New_York:20230903T180000
DTSTAMP:20260425T045523
CREATED:20230128T211955Z
LAST-MODIFIED:20230704T003100Z
UID:11421-1693594800-1693764000@neuromuscular-reprogramming.com
SUMMARY:Mod 1: Intro to NMR\, Protocols for Hips and Low Back: Asheville\, NC
DESCRIPTION:View Full Course Description\n  \nNMR provides fast\, easy corrections for complex coordination dysfunctions of the hips and low back. Correcting poor sequencing among the muscles controlling movement and stabilization in these areas quickly restores proper biomechanics and range of motion\, alleviating chronic and acute pain of the Gluteals\, SIJ and Lumbar Spine. \nLearn safe protocols to address sacroiliac joint pain\, hip pain\, “Military Spine”\, excessive lordosis\, sciatica\, and more. \n\nRelieve compression effects from past falls on the sacrum and coccyx.\nReduce the effects of shock and whiplash to the spine.\nRecondition active support of the erector spinae muscles.\nLearn corrective exercises to reinforce efficient use of the low back and hips.\n\nRegister 4 Weeks in advance and Save 10%!\nSpecial 20% discount for Center for Massage Grads USE THIS LINK TO REGISTER IF YOU ARE A CFM GRAD~\nRegistration for this event is through Mike@centerformassage.com  or by calling\n828 505 1033\n\n			\n				\n\n	\n	\n			\n\n\n	\n		Mod 1: Intro to NMR: Protocols for Hips and Low Back – In-Person & Live Streaming Course – Asheville NC – Sept 1-3$0.00 – $600.00Price range: $0.00 through $600.00 \n\n\n	\n			\n			\n									\n						Class\n						\n							Choose an optionRegular In-PersonIn-Person RepeatingCertified NMR Therapists Repeating						\n					\n									\n						Modules\n						\n							Choose an optionModule 1Clear						\n					\n							\n		\n		\n		\n		\n			\n	\n	\n		Mod 1: Intro to NMR: Protocols for Hips and Low Back - In-Person & Live Streaming Course - Asheville NC - Sept 1-3 quantity\n	\n	\n\n	Add to cart\n\n	\n	\n	\n	\n\n		\n	\n	\n\n\n\n	\n	\n		SKU: N/A\n\n	\n	Categories: Classes\, Module 1 - Protocols for Hips and Low Back\, North Carolina\n	\n	\n\n	\n\n	\n	\n		\n							\n					\n						Description					\n				\n							\n					\n						Additional information					\n				\n					\n					\n				\n	Description\n\nPLEASE NOTE: When purchasing\, when you are in CHECK OUT be sure to click the box that you agree to the Terms and Conditions before tapping the Proceed to Paypal button\, or you will not be able to complete your purchase! \nThe drop down menus automatically change the price based on your selection. \n1. Purchasing this Mod IN-PERSON class in advance\, 28 days prior to the class start date\, discounts 10% off the regular price. \n2. Repeating this Mod IN-PERSON class costs 50% (half off regular price). \n3. Purchasing this Mod STREAMING class in advance\, 28 days prior to the class start date\, discounts 10% off the regular price. \n4. Repeating this Mod STREAMING class costs 50% (half off regular price).  \nIf this is your first time purchasing\, please be sure to register and log in before completing your purchase. If you do not yet have an account\, please REGISTER HERE \n\nAccessing the Manual Muscle Testing Video Series:\nParticipants also receive automatic registration for free access to the Manual Muscle Testing Video series.  If you do not receive your free video link in the email\, check your spam folder for your class receipt with valuable links to promised FREE resources. (Even without the email you are still added to the membership – to access follow the directions BELOW) \n\nParticipants also receive automatic registration for free access to the NMR Manual Muscle Testing Video Series.\n\nPlease login to your account.  Go to the STORE menu tab\, and open the dropdown menu to see PREPAID VIDEO SERIES ACCESS menu selection\, and then in the additional submenu there\, please select Manual Muscle Testing.\n\n\nAlternatively (takes longer) login to your account you created when you purchased the video series.\n\nOnce you have logged in\, please navigate to “My Account” selected under the STORE menu tab.\nThen select “Orders” from the links on the left.\nThen the VIEW button for each order\, and in each order detail is the Link to the video series for video series you purchased.\nPlease click on the provided video series URL page link inside your Order detail to access the video series page on this website.\n\n\n\n\n\nIn the unlikely event the video page does not appear\, or the link to the video page is missing in your Order details\, or says the page is “Access Denied” when you have already logged in\, and you previously purchased it\, and still ended up on the Access Denied page\, OH NO!!! Sincerest apologies\, please contact us immediately to fix it for you: wsmoulton @ gmail com\, include your user name and email. \n\n			\n					\n				\n	Additional information\n\n\n			\n			Modules\n			Module 1\, All 4 Modules
URL:https://neuromuscular-reprogramming.com/event/mod-1-intro-nmr-protocols-hips-low-back-asheville-sep-1-2023/
LOCATION:Center for Massage\, 14 Eagle Street\, Asheville\, NC\, 28801\, United States
CATEGORIES:Asheville North Carolina,North Carolina Classes
ORGANIZER;CN="Mike Williams":MAILTO:mike@centerformassage.com
END:VEVENT
BEGIN:VEVENT
DTSTART;TZID=UTC:20221014T183000
DTEND;TZID=UTC:20221016T173000
DTSTAMP:20260425T045523
CREATED:20211115T231250Z
LAST-MODIFIED:20211116T184826Z
UID:10889-1665772200-1665941400@neuromuscular-reprogramming.com
SUMMARY:Mod 1: Intro to NMR\, Protocols for Hips and Low Back: Asheville\, NC
DESCRIPTION:NMR provides fast\, easy corrections for complex coordination dysfunctions of the hips and low back. Correcting poor sequencing among the muscles controlling movement and stabilization in these areas quickly restores proper biomechanics and range of motion\, alleviating chronic and acute pain of the Gluteals\, SIJ and Lumbar Spine. \nLearn safe protocols to address sacroiliac joint pain\, hip pain\, “Military Spine”\, excessive lordosis\, sciatica\, and more. \n\nRelieve compression effects from past falls on the sacrum and coccyx.\nReduce the effects of shock and whiplash to the spine.\nRecondition active support of the erector spinae muscles.\nLearn corrective exercises to reinforce efficient use of the low back and hips.\n\nRegister 4 Weeks in advance and Save 10%! \nRegistration for this event is through Mike@centerformassage.com  or by calling\n828 505 1033\nView Full Course Description\n			\n				\n\n	\n	\n			\n\n\n	\n		Mod 1: Intro to NMR: Protocols for Hips and Low Back – Asheville\, NC – Oct 2022$275.00 – $550.00Price range: $275.00 through $550.00 \n\n\n	\n			\n			\n									\n						Class\n						\n							Choose an optionRegularRepeating						\n					\n									\n						Modules\n						\n							Choose an optionModule 1Clear						\n					\n							\n		\n		\n		\n		\n			\n	\n	\n		Mod 1: Intro to NMR: Protocols for Hips and Low Back - Asheville\, NC - Oct 2022 quantity\n	\n	\n\n	Add to cart\n\n	\n	\n	\n	\n\n		\n	\n	\n\n\n\n	\n	\n		SKU: N/A\n\n	\n	Categories: Classes\, North Carolina\n	\n	\n\n	\n\n	\n	\n		\n							\n					\n						Description					\n				\n					\n					\n				\n	Description\n\nThe drop down menus automatically change the price based on your selection. Class price variations include: \n1. Purchasing this Mod class in advance\, 30 days prior to the class start date\, discounts 10% off – e.g. $550 for 1 module reduces to $495 \n2. Repeating this Mod class costs 50% (half off regular price) – e.g. $275 for 1 module\, or only $250 with 30 days advance payment early bird discount \nIf this is your first time purchasing\, please be sure to register and log in before completing your purchase. If you do not yet have an account\, please REGISTER HERE \n 
URL:https://neuromuscular-reprogramming.com/event/mod-1-intro-nmr-protocols-hips-low-back-asheville-oct-2022/
LOCATION:Center for Massage\, 14 Eagle Street\, Asheville\, NC\, 28801\, United States
CATEGORIES:Asheville North Carolina,North Carolina Classes
ORGANIZER;CN="Scott Field":MAILTO:keystonebodywork@gmail.com
END:VEVENT
END:VCALENDAR