BEGIN:VCALENDAR
VERSION:2.0
PRODID:-//NeuroMuscular Reprogramming - ECPv6.15.18//NONSGML v1.0//EN
CALSCALE:GREGORIAN
METHOD:PUBLISH
X-ORIGINAL-URL:https://neuromuscular-reprogramming.com
X-WR-CALDESC:Events for NeuroMuscular Reprogramming
REFRESH-INTERVAL;VALUE=DURATION:PT1H
X-Robots-Tag:noindex
X-PUBLISHED-TTL:PT1H
BEGIN:VTIMEZONE
TZID:America/New_York
BEGIN:DAYLIGHT
TZOFFSETFROM:-0500
TZOFFSETTO:-0400
TZNAME:EDT
DTSTART:20240310T070000
END:DAYLIGHT
BEGIN:STANDARD
TZOFFSETFROM:-0400
TZOFFSETTO:-0500
TZNAME:EST
DTSTART:20241103T060000
END:STANDARD
BEGIN:DAYLIGHT
TZOFFSETFROM:-0500
TZOFFSETTO:-0400
TZNAME:EDT
DTSTART:20250309T070000
END:DAYLIGHT
BEGIN:STANDARD
TZOFFSETFROM:-0400
TZOFFSETTO:-0500
TZNAME:EST
DTSTART:20251102T060000
END:STANDARD
BEGIN:DAYLIGHT
TZOFFSETFROM:-0500
TZOFFSETTO:-0400
TZNAME:EDT
DTSTART:20260308T070000
END:DAYLIGHT
BEGIN:STANDARD
TZOFFSETFROM:-0400
TZOFFSETTO:-0500
TZNAME:EST
DTSTART:20261101T060000
END:STANDARD
END:VTIMEZONE
BEGIN:VEVENT
DTSTART;TZID=America/New_York:20250502T190000
DTEND;TZID=America/New_York:20250504T173000
DTSTAMP:20260422T003054
CREATED:20250116T185704Z
LAST-MODIFIED:20250205T000445Z
UID:13223-1746212400-1746379800@neuromuscular-reprogramming.com
SUMMARY:Mod 1: Intro to NMR: Protocols for Hips and Low Back - In-Person Course - Port New Richie FL - May 2-4 2025
DESCRIPTION:View Full Course Description (pdf)\nNMR provides fast\, easy corrections for complex coordination dysfunctions of the hips and low back. Correcting poor sequencing among the muscles controlling movement and stabilization in these areas quickly restores proper biomechanics and range of motion\, alleviating chronic and acute pain of the Gluteals\, SIJ and Lumbar Spine. \nLearn safe protocols to address sacroiliac joint pain\, hip pain\, “Military Spine”\, excessive lordosis\, sciatica\, and more. \n\nRelieve compression effects from past falls on the sacrum and coccyx.\nReduce the effects of shock and whiplash to the spine.\nRecondition active support of the erector spinae muscles.\nLearn corrective exercises to reinforce efficient use of the low back and hips.\n\nRegister 4 Weeks in advance and Save 10%! \n\n			\n				\n\n	\n	\n			\n\n\n	\n		Mod 1: Intro to NMR: Protocols for Hips and Low Back – In-Person Course – Port New Richie FL – May 2-4 2025$0.00 – $600.00Price range: $0.00 through $600.00 \n\n\n	\n			\n			\n									\n						Class\n						\n							Choose an optionRegular In-PersonIn-Person RepeatingCertified NMR Therapists Repeating						\n					\n									\n						Modules\n						\n							Choose an optionModule 1Clear						\n					\n							\n		\n		\n		\n		\n			\n	\n	\n		Mod 1: Intro to NMR: Protocols for Hips and Low Back - In-Person Course - Port New Richie FL - May 2-4 2025 quantity\n	\n	\n\n	Add to cart\n\n	\n	\n	\n	\n\n		\n	\n	\n\n\n\n	\n	\n		SKU: N/A\n\n	\n	Categories: Classes\, Florida\, Module 1 - Protocols for Hips and Low Back\n	\n	\n\n	\n\n	\n	\n		\n							\n					\n						Description					\n				\n							\n					\n						Additional information					\n				\n					\n					\n				\n	Description\n\nThe drop down menus automatically change the price based on your selection. \n1. Purchasing this Mod IN-PERSON class in advance\, 28 days prior to the class start date\, discounts 10% off the regular price. \n2. Repeating this Mod IN-PERSON class costs 50% (half off regular price). \nIf this is your first time purchasing\, please be sure to register and log in before completing your purchase. If you do not yet have an account\, please REGISTER HERE \n\nCancellation Policy:\nCancellations received one month ahead of class date will receive a full refund.  Cancellations up to 2 weeks ahead will receive a 50% refund or a 100% credit toward a future class minus a $30 administrative fee.  Full credit must be redeemed within 2 years of the cancellation. After that the student will retain no value toward future classes. \n\nAccessing the Manual Muscle Testing Video Series:\nParticipants also receive automatic registration for free access to the Manual Muscle Testing Video series. \n\n\n\nPlease login to your account.\n\n\n\n\nOnce you have logged in\, please navigate to “My Account”\nThen select “NMR Video Products” from the links on the left.\n\n\n\n\n\nIn the unlikely event the video page does not appear\, or the link to the video page is missing in your Order details\, or says the page is “Access Denied” when you have already logged in\, and you previously purchased it\, and still ended up on the Access Denied page\, OH NO!!! Sincerest apologies\, please contact us immediately to fix it for you: wsmoulton @ gmail com\, include your user name and email. \n\n			\n					\n				\n	Additional information\n\n\n			\n			Modules\n			Module 1\, All 4 Modules
URL:https://neuromuscular-reprogramming.com/event/mod-1-intro-to-nmr-protocols-for-hips-and-low-back-in-person-course-port-new-richie-may2-to-4-2025/
LOCATION:Port Richie\, 4636 Glissade Dr.\, New Port Richie\, 34652\, United States
CATEGORIES:New Jersey Classes
ATTACH;FMTTYPE=image/jpeg:https://neuromuscular-reprogramming.com/wp-content/uploads/2024/02/Mod1picx.jpg
END:VEVENT
BEGIN:VEVENT
DTSTART;TZID=America/New_York:20250516T190000
DTEND;TZID=America/New_York:20250518T173000
DTSTAMP:20260422T003054
CREATED:20250116T184624Z
LAST-MODIFIED:20250205T000519Z
UID:13219-1747422000-1747589400@neuromuscular-reprogramming.com
SUMMARY:Mod 1: Intro to NMR: Protocols for Hips and Low Back - In-Person Course - East Brunswick NJ - May 16-18 2025
DESCRIPTION:View Full Course Description (pdf)\nNMR provides fast\, easy corrections for complex coordination dysfunctions of the hips and low back. Correcting poor sequencing among the muscles controlling movement and stabilization in these areas quickly restores proper biomechanics and range of motion\, alleviating chronic and acute pain of the Gluteals\, SIJ and Lumbar Spine. \nLearn safe protocols to address sacroiliac joint pain\, hip pain\, “Military Spine”\, excessive lordosis\, sciatica\, and more. \n\nRelieve compression effects from past falls on the sacrum and coccyx.\nReduce the effects of shock and whiplash to the spine.\nRecondition active support of the erector spinae muscles.\nLearn corrective exercises to reinforce efficient use of the low back and hips.\n\nRegister 4 Weeks in advance and Save 10%! \n\n			\n				\n\n	\n	\n			\n\n\n	\n		Mod 1: Intro to NMR: Protocols for Hips and Low Back – In-Person Course – East Brunswick NJ – May 16-18 2025$0.00 – $600.00Price range: $0.00 through $600.00 \n\n\n	\n			\n			\n									\n						Class\n						\n							Choose an optionRegular In-PersonIn-Person RepeatingCertified NMR Therapists Repeating						\n					\n									\n						Modules\n						\n							Choose an optionModule 1Clear						\n					\n							\n		\n		\n		\n		\n			\n	\n	\n		Mod 1: Intro to NMR: Protocols for Hips and Low Back - In-Person Course - East Brunswick NJ - May 16-18 2025 quantity\n	\n	\n\n	Add to cart\n\n	\n	\n	\n	\n\n		\n	\n	\n\n\n\n	\n	\n		SKU: N/A\n\n	\n	Categories: Classes\, Module 1 - Protocols for Hips and Low Back\, News Brunswick\, NJ\n	\n	\n\n	\n\n	\n	\n		\n							\n					\n						Description					\n				\n							\n					\n						Additional information					\n				\n					\n					\n				\n	Description\n\nThe drop down menus automatically change the price based on your selection. \n1. Purchasing this Mod IN-PERSON class in advance\, 28 days prior to the class start date\, discounts 10% off the regular price. \n2. Repeating this Mod IN-PERSON class costs 50% (half off regular price). \nIf this is your first time purchasing\, please be sure to register and log in before completing your purchase. If you do not yet have an account\, please REGISTER HERE \n\nCancellation Policy:\nCancellations received one month ahead of class date will receive a full refund.  Cancellations up to 2 weeks ahead will receive a 50% refund or a 100% credit toward a future class minus a $30 administrative fee.  Full credit must be redeemed within 2 years of the cancellation. After that the student will retain no value toward future classes. \n\nAccessing the Manual Muscle Testing Video Series:\nParticipants also receive automatic registration for free access to the Manual Muscle Testing Video series. \n\n\n\nPlease login to your account.\n\n\n\n\nOnce you have logged in\, please navigate to “My Account”\nThen select “NMR Video Products” from the links on the left.\n\n\n\n\n\nIn the unlikely event the video page does not appear\, or the link to the video page is missing in your Order details\, or says the page is “Access Denied” when you have already logged in\, and you previously purchased it\, and still ended up on the Access Denied page\, OH NO!!! Sincerest apologies\, please contact us immediately to fix it for you: wsmoulton @ gmail com\, include your user name and email. \n\n			\n					\n				\n	Additional information\n\n\n			\n			Modules\n			Module 1\, All 4 Modules
URL:https://neuromuscular-reprogramming.com/event/mod-1-intro-to-nmr-protocols-for-hips-and-low-back-in-person-course-east-brunswick-may-16-to-18-2025/
LOCATION:American Institute of Alternative Medicine\, 646 NJ-18 Suite 210\, East Brunswick\, NJ\, 08816\, United States
CATEGORIES:New Jersey Classes
ATTACH;FMTTYPE=image/jpeg:https://neuromuscular-reprogramming.com/wp-content/uploads/2024/02/Mod1picx.jpg
ORGANIZER;CN="Scott Field":MAILTO:keystonebodywork@gmail.com
END:VEVENT
END:VCALENDAR