BEGIN:VCALENDAR
VERSION:2.0
PRODID:-//NeuroMuscular Reprogramming - ECPv6.15.18//NONSGML v1.0//EN
CALSCALE:GREGORIAN
METHOD:PUBLISH
X-ORIGINAL-URL:https://neuromuscular-reprogramming.com
X-WR-CALDESC:Events for NeuroMuscular Reprogramming
REFRESH-INTERVAL;VALUE=DURATION:PT1H
X-Robots-Tag:noindex
X-PUBLISHED-TTL:PT1H
BEGIN:VTIMEZONE
TZID:UTC
BEGIN:STANDARD
TZOFFSETFROM:+0000
TZOFFSETTO:+0000
TZNAME:UTC
DTSTART:20200101T000000
END:STANDARD
END:VTIMEZONE
BEGIN:VEVENT
DTSTART;TZID=UTC:20221028T153000
DTEND;TZID=UTC:20221030T163000
DTSTAMP:20260425T141811
CREATED:20220626T033012Z
LAST-MODIFIED:20220928T223129Z
UID:11072-1666971000-1667147400@neuromuscular-reprogramming.com
SUMMARY:Mod 2: Integrating Hips and Shoulders: Both a Live Streaming Online and Yelapa In-Person Course!
DESCRIPTION:Mod 2 presents quick and effective protocols to work with the organizational integrity between hip and shoulder functions. It includes a deeper look at Contralaterals\, Diagonals\, forward\, back and side Gaits\, and the functional integration between the hips and low back and the big movers of the shoulders\, ie. Trapezius\, Latissimus\, Supraspinatus\, Posterior Deltoid\, and Anterior Serratus. Local reprogramming of all shoulder functions follows\, and is accomplished much more easily following big system integration. Register 4 Weeks in advance and Save 10% (Except for in-person pricing – the discount is already built in). \nBONUS:  With your enrollment you will receive free access on the website to the NMR Manual Muscle Testing video. \nMake sure to give us a working email with your enrollment.  There will be some prep work to complete before the class.\n\n\n\nThis is BOTH an IN-PERSON class held in beautiful Yelapa\, Mexico AND an online LIVE STREAMING COURSE. It starts at 3:30 PT or 6:30pm ET.  (Check times for Australia\, Indonesia and Europe).\nYelapa\, a tropical paradise for nature lovers\, also boast great restaurants! Life in Yelapa is open to the elements. Soft breezes blow through your house to keep you cool. The hot sun dries you quickly after you swim. Walk upriver for hours to waterfalls and swimming holes. Sit on the rocks or read in a hammock; watch the sunset from the beach; go fishing and snorkeling. Bring your binoculars to see Military Macaws\, giant swallows that look like flying lips and song birds of all kinds.  Cost of accommodations $25 – $100 per night; a room or a house. \n\nView Full Course Description (pdf)\n			\n				\n\n	\n	\n			\n\n\n	\n		Mod 2: Integrating Hips & Shoulders: Yelapa – In-Person or Live Streaming Course – October 2022$0.00 – $450.00Price range: $0.00 through $450.00 \n\n\n	\n			\n			\n									\n						Class\n						\n							Choose an optionRegular (Zoom)Repeating (Zoom)In-personIn-person ReviewerMod 4 Graduate Repeating						\n					\n									\n						Module\n						\n							Choose an optionModule 2Clear						\n					\n							\n		\n		\n		\n		\n			\n	\n	\n		Mod 2: Integrating Hips & Shoulders: Yelapa - In-Person or Live Streaming Course - October 2022 quantity\n	\n	\n\n	Add to cart\n\n	\n	\n	\n	\n\n		\n	\n	\n\n\n\n	\n	\n		SKU: N/A\n\n	\n	Categories: Classes\, Live Streaming Course\, Module 2: Integrating Hips and Shoulders\, Yelapa Mexico\n	\n	\n\n	\n\n	\n	\n		\n							\n					\n						Description					\n				\n					\n					\n				\n	Description\n\nThe drop down menus automatically change the price based on your selection.  \nIf this is your first time purchasing\, please be sure to register and log in before completing your purchase. If you do not yet have an account\, please REGISTER HERE\n\n\n\nRefund Policy:\nWithdrawal from class by 2 weeks ahead can choose a refund of 75% on tuition and accommodation.   \nOption 2: Withdraw in writing at any time and retain full value to apply to registration for a future version of the class.  \n\n\n\nManual Muscle Testing Video Series:\nParticipants also receive automatic registration for free access to the NMR Manual Muscle Testing Video Series (a $35 value free add-on to the class).  If you do not receive your free video link in the email\, please check your spam folder for your class receipt. It has links to the promised FREE resources.   \nPlease login to your account.  Go to the STORE menu tab\, and hover to see and select NMR Manual Muscle Testing (MMT) Series. \nIn the unlikely event the video page does not appear\, or says the page is “Access Denied” after you have logged in and purchased it sometime\, well snap\, contact us to fix it for you: wsmoulton @ gmail com\, include your user name and email and include “MMT Access” in the subject line. Thanks!
URL:https://neuromuscular-reprogramming.com/event/mod-2-integrating-hips-and-shoulders-live-streaming-october-2022/
CATEGORIES:Live Streaming Course,Yelapa Mexico Mod Course
END:VEVENT
BEGIN:VEVENT
DTSTART;TZID=UTC:20220422T153000
DTEND;TZID=UTC:20220424T153000
DTSTAMP:20260425T141811
CREATED:20211011T221833Z
LAST-MODIFIED:20211011T222447Z
UID:10851-1650641400-1650814200@neuromuscular-reprogramming.com
SUMMARY:Mod 3: Kinetic Chains and the Neck: Yelapa MX! & Live Streaming Course
DESCRIPTION:A continuous sequence of muscular activity creates the beauty and power of the expression of the human body. When these lines of force and movement become inhibited\, we feel glitches and restrictions when sequencing a movement. In Mod 3 we learn to re-condition full and graceful movement top to bottom and front to back. \n\nApply the NMR protocols to resolving sequencing problems among the muscles responsible for flexion and extension from head to foot.\nRebuild the support and free the expression of the neck.\nLearn a safe protocol for rebuilding support in the whole spine.\n\nRegister 4 Weeks in advance and Save 10%! \nBONUS:  With your enrollment you will receive free access on the website to the NMR Manual Muscle Testing video. \nMake sure to give us a working email with your enrollment.  There will be some prep work to complete before the class.\n\n\nThis is BOTH an IN-PERSON class held in beautiful Yelapa\, Mexico AND an online LIVE STREAMING COURSE.  \nIt starts at 3:30 – 6:30pm PT.  (Check times for Australia\, Indonesia and Europe).  If you want to attend in-person please contact us for more details contact@alivewell.com\nView Full Description\nYelapa\, a tropical paradise for nature lovers\, also boast great restaurants! Life in Yelapa is open to the elements. Soft breezes blow through your house to keep you cool. The hot sun dries you quickly after you swim. Walk upriver for hours to waterfalls and swimming holes. Sit on the rocks or read in a hammock; watch the sunset from the beach; go fishing and snorkeling. Bring your binoculars to see Military Macaws\, giant swallows that look like flying lips and song birds of all kinds.  Cost of accommodations $25 – $100 per night; a room or a house. \n			\n				\n\n	\n	\n			\n\n\n	\n		Mod 3: Kinetic Chains & The Neck – In Yelapa MX & Live Streaming Course – April 2022$0.00 – $450.00Price range: $0.00 through $450.00 \n\n\n	\n			\n			\n									\n						Class\n						\n							Choose an optionRegular (Zoom)Repeating (Zoom)In-personIn-person ReviewerMod 4 Graduate Repeating						\n					\n									\n						Module\n						\n							Choose an optionModule 3Clear						\n					\n							\n		\n		\n		\n		\n			\n	\n	\n		Mod 3: Kinetic Chains & The Neck - In Yelapa MX & Live Streaming Course - April 2022 quantity\n	\n	\n\n	Add to cart\n\n	\n	\n	\n	\n\n		\n	\n	\n\n\n\n	\n	\n		SKU: N/A\n\n	\n	Categories: Classes\, Live Streaming Course\, Module 3 - Kinetic Chains & the Neck\, Yelapa Mexico\n	\n	\n\n	\n\n	\n	\n		\n							\n					\n						Description					\n				\n					\n					\n				\n	Description\n\nThe drop down menus automatically change the price based on your selection.  \nIf this is your first time purchasing\, please be sure to register and log in before completing your purchase. If you do not yet have an account\, please REGISTER HERE\n\n\n\nRefund Policy:\nWithdrawal from class by 2 weeks ahead can choose a refund of 75% on tuition and accommodation.   \nOption 2: Withdraw in writing at any time and retain full value to apply to registration for a future version of the class.  \n\n\n\nManual Muscle Testing Video Series:\nParticipants also receive automatic registration for free access to the NMR Manual Muscle Testing Video Series (a $35 value free add-on to the class).  If you do not receive your free video link in the email\, please check your spam folder for your class receipt. It has links to the promised FREE resources.   \nPlease login to your account.  Go to the STORE menu tab\, and hover to see and select NMR Manual Muscle Testing (MMT) Series. \nIn the unlikely event the video page does not appear\, or says the page is “Access Denied” after you have logged in and purchased it sometime\, well snap\, contact us to fix it for you: wsmoulton @ gmail com\, include your user name and email and include “MMT Access” in the subject line. Thanks!
URL:https://neuromuscular-reprogramming.com/event/mod-3-kinetic-chains-neck-live-streaming-april-2022/
LOCATION:Alive & Well! Institute Of Conscious BodyWork\, 655 Redwood Highway Frontage Rd #225\, Mill Valley\, CA\, 94941\, United States
CATEGORIES:Live Streaming Course,Yelapa Mexico Mod Course
END:VEVENT
BEGIN:VEVENT
DTSTART;TZID=UTC:20211022T153000
DTEND;TZID=UTC:20211024T163000
DTSTAMP:20260425T141811
CREATED:20210610T182058Z
LAST-MODIFIED:20210812T193714Z
UID:10744-1634916600-1635093000@neuromuscular-reprogramming.com
SUMMARY:Mod 2: Integrating Hips and Shoulders: Both a Live Streaming Online and Yelapa In-Person Course!
DESCRIPTION:Mod 2 presents quick and effective protocols to work with the organizational integrity between hip and shoulder functions. It includes a deeper look at Contralaterals\, Diagonals\, forward\, back and side Gaits\, and the functional integration between the hips and low back and the big movers of the shoulders\, ie. Trapezius\, Latissimus\, Supraspinatus\, Posterior Deltoid\, and Anterior Serratus. Local reprogramming of all shoulder functions follows\, and is accomplished much more easily following big system integration. Register 4 Weeks in advance and Save 10% (Except for in-person pricing – the discount is already built in). \nBONUS:  With your enrollment you will receive free access on the website to the NMR Manual Muscle Testing video. \nMake sure to give us a working email with your enrollment.  There will be some prep work to complete before the class.\n\n\n\nThis is BOTH an IN-PERSON class held in beautiful Yelapa\, Mexico AND an online LIVE STREAMING COURSE. It starts at 3:30 PT or 6:30pm ET.  (Check times for Australia\, Indonesia and Europe).\nYelapa\, a tropical paradise for nature lovers\, also boast great restaurants! Life in Yelapa is open to the elements. Soft breezes blow through your house to keep you cool. The hot sun dries you quickly after you swim. Walk upriver for hours to waterfalls and swimming holes. Sit on the rocks or read in a hammock; watch the sunset from the beach; go fishing and snorkeling. Bring your binoculars to see Military Macaws\, giant swallows that look like flying lips and song birds of all kinds.  Cost of accommodations $25 – $100 per night; a room or a house. \n\nView Full Course Description (pdf)\n			\n				\n\n	\n	\n			\n\n\n	\n		Mod 2: Integrating Hips & Shoulders: Yelapa – Live Streaming Course – October 2021$0.00 – $450.00Price range: $0.00 through $450.00 \n\n\n	\n			\n			\n									\n						Class\n						\n							Choose an optionRegular (Zoom)Repeating (Zoom)In-personIn-person ReviewerMod 4 Graduate Repeating						\n					\n									\n						Module\n						\n							Choose an optionModule 2Clear						\n					\n							\n		\n		\n		\n		\n			\n	\n	\n		Mod 2: Integrating Hips & Shoulders: Yelapa - Live Streaming Course - October 2021 quantity\n	\n	\n\n	Add to cart\n\n	\n	\n	\n	\n\n		\n	\n	\n\n\n\n	\n	\n		SKU: N/A\n\n	\n	Categories: Classes\, Live Streaming Course\n	\n	\n\n	\n\n	\n	\n		\n							\n					\n						Description					\n				\n					\n					\n				\n	Description\n\nThe drop down menus automatically change the price based on your selection.  \nIf this is your first time purchasing\, please be sure to register and log in before completing your purchase. If you do not yet have an account\, please REGISTER HERE\n\n\n\nRefund Policy:\nWithdrawal from class by 2 weeks ahead can choose a refund of 75% on tuition and accommodation.   \nOption 2: Withdraw in writing at any time and retain full value to apply to registration for a future version of the class.  \n\n\n\nManual Muscle Testing Video Series:\nParticipants also receive automatic registration for free access to the NMR Manual Muscle Testing Video Series (a $35 value free add-on to the class).  If you do not receive your free video link in the email\, please check your spam folder for your class receipt. It has links to the promised FREE resources.   \nPlease login to your account.  Go to the STORE menu tab\, and hover to see and select NMR Manual Muscle Testing (MMT) Series. \nIn the unlikely event the video page does not appear\, or says the page is “Access Denied” after you have logged in and purchased it sometime\, well snap\, contact us to fix it for you: wsmoulton @ gmail com\, include your user name and email and include “MMT Access” in the subject line. Thanks!
URL:https://neuromuscular-reprogramming.com/event/mod-2-integrating-hips-and-shoulders-live-streaming-october-2021/
CATEGORIES:Live Streaming Course,Yelapa Mexico Mod Course
END:VEVENT
BEGIN:VEVENT
DTSTART;TZID=UTC:20210430T153000
DTEND;TZID=UTC:20210502T163000
DTSTAMP:20260425T141811
CREATED:20210317T013619Z
LAST-MODIFIED:20210317T015510Z
UID:10677-1619796600-1619973000@neuromuscular-reprogramming.com
SUMMARY:Mod 1: Intro to NMR\, Protocols for Hips and Low Back: In-person Yelapa\, Mexico + Live Streaming Online Course!
DESCRIPTION:NMR provides fast\, easy corrections for complex coordination dysfunctions of the hips and low back. Correcting poor sequencing among the muscles controlling movement and stabilization in these areas quickly restores proper biomechanics and range of motion\, alleviating chronic and acute pain of the Gluteals\, SIJ and Lumbar Spine. \nLearn safe protocols to address sacroiliac joint pain\, hip pain\, “Military Spine”\, excessive lordosis\, sciatica\, and more. \n\nRelieve compression effects from past falls on the sacrum and coccyx.\nReduce the effects of shock and whiplash to the spine.\nRecondition active support of the erector spinae muscles.\nLearn corrective exercises to reinforce efficient use of the low back and hips.\n\nRegister 4 Weeks in advance and Save 10%!\nBONUS:  With your enrollment you will receive free access on the website to the NMR Manual Muscle Testing video.\nMake sure to give us a working email with your enrollment.  There will be some prep work to complete before the class.\n\n\nThis is BOTH an IN-PERSON class held in beautiful Yelapa\, Mexico AND an online LIVE STREAMING COURSE.  \nIt starts at 3:30 – 6:30pm PT.  (Check times for Australia\, Indonesia and Europe).  If you want to attend in-person please contact us for more details contact@alivewell.com\nView Full Course Description (pdf)\nYelapa\, a tropical paradise for nature lovers\, also boast great restaurants! Life in Yelapa is open to the elements. Soft breezes blow through your house to keep you cool. The hot sun dries you quickly after you swim. Walk upriver for hours to waterfalls and swimming holes. Sit on the rocks or read in a hammock; watch the sunset from the beach; go fishing and snorkeling. Bring your binoculars to see Military Macaws\, giant swallows that look like flying lips and song birds of all kinds.  Cost of accommodations $25 – $100 per night; a room or a house. \n			\n				\n\n	\n	\n			\n\n\n	\n		Mod 1: Intro to NMR: Protocols for Hips and Low Back – Yelapa\, Mexico + Live Streaming Course – April/May 2021$0.00 – $400.00Price range: $0.00 through $400.00 \n\n\n	\n			\n			\n									\n						Class\n						\n							Choose an optionIn-person RegularIn-person RepeatingStreaming RegularStreaming RepeatingMod 4 Grad Repeating						\n					\n									\n						Modules\n						\n							Choose an optionModule 1Clear						\n					\n							\n		\n		\n		\n		\n			\n	\n	\n		Mod 1: Intro to NMR: Protocols for Hips and Low Back - Yelapa\, Mexico + Live Streaming Course - April/May 2021 quantity\n	\n	\n\n	Add to cart\n\n	\n	\n	\n	\n\n		\n	\n	\n\n\n\n	\n	\n		SKU: N/A\n\n	\n	Categories: Classes\, Live Streaming Course\, Yelapa Mexico\n	\n	\n\n	\n\n	\n	\n		\n							\n					\n						Description					\n				\n					\n					\n				\n	Description\n\nThe drop down menus automatically change the price based on your selection.  \nIf this is your first time purchasing\, please be sure to register and log in before completing your purchase. If you do not yet have an account\, please REGISTER HERE\n\n\n\nRefund Policy:\nWithdrawal from class by 2 weeks ahead can choose a refund of 75% on tuition and accommodation.  \nOption 2: Withdraw in writing at any time and retain full value to apply to registration for a future version of the class.  \n\n\n\nManual Muscle Testing Video Series:\nParticipants also receive automatic registration for free access to the NMR Manual Muscle Testing Video Series (a $35 value free add-on to the class).  If you do not receive your free video link in the email\, please check your spam folder for your class receipt. It has links to the promised FREE resources.   \nPlease login to your account.  Go to the STORE menu tab\, and hover to see and select NMR Manual Muscle Testing (MMT) Series. \nIn the unlikely event the video page does not appear\, or says the page is “Access Denied” after you have logged in and purchased it sometime\, well snap\, contact us to fix it for you: wsmoulton @ gmail com\, include your user name and email and include “MMT Access” in the subject line. Thanks!
URL:https://neuromuscular-reprogramming.com/event/mod-1-intro-nmr-protocols-hips-low-back-yelapa-plus-live-streaming-april-2021/
CATEGORIES:Live Streaming Course,Yelapa Mexico Mod Course
END:VEVENT
END:VCALENDAR